BEGIN:VCALENDAR
VERSION:2.0
PRODID:-//Eastside Community Chamber - ECPv5.5.0.1//NONSGML v1.0//EN
CALSCALE:GREGORIAN
METHOD:PUBLISH
X-WR-CALNAME:Eastside Community Chamber
X-ORIGINAL-URL:https://eastsidecommunitychamber.org
X-WR-CALDESC:Events for Eastside Community Chamber
BEGIN:VTIMEZONE
TZID:America/Detroit
BEGIN:DAYLIGHT
TZOFFSETFROM:-0500
TZOFFSETTO:-0400
TZNAME:EDT
DTSTART:20210314T070000
END:DAYLIGHT
BEGIN:STANDARD
TZOFFSETFROM:-0400
TZOFFSETTO:-0500
TZNAME:EST
DTSTART:20211107T060000
END:STANDARD
END:VTIMEZONE
BEGIN:VEVENT
DTSTART;TZID=America/Detroit:20211024T140000
DTEND;TZID=America/Detroit:20211024T150000
DTSTAMP:20260419T173548
CREATED:20211007T151855Z
LAST-MODIFIED:20211007T151855Z
UID:9911-1635084000-1635087600@eastsidecommunitychamber.org
SUMMARY:“Michigan Aviation: People and Places that Changed History”
DESCRIPTION:A Book signing and lecture with Barry Levine\nSunday October 24th\, 2021 at 2:00pm\n Admission by donation \nMichigan Aviation: People and Places that Changed History provides a collection of aviation stories from the Wolverine State. Starting from the early days of the 20th century\, Michigan has been at the forefront of aviation technology\, from its military bases to manufacturing aircraft\, glider production\, and more. \nReaders will be introduced to the Michigan innovators and workers who made it all possible: Medal of Honor recipient Charles Kettles\, aircraft and glider designer Neal Loving\, aviator and philanthropist Suzanne Parish\, NASA astronauts Roger Chafee and Jack Lousma\, aerial photographer Talbert “Ted” Abrams\, “Rosie the Riveter”\, and many more.
URL:https://eastsidecommunitychamber.org/event/michigan-aviation-people-and-places-that-changed-history/
LOCATION:Michigan Military Museum\, 16600 Stephens Road\, Eastpointe\, MI\, 48021\, United States
CATEGORIES:Community,Education
ORGANIZER;CN="Michigan%20Military%20Technical%20%26%20Historical%20Society":MAILTO:mimths@mimths.org
END:VEVENT
END:VCALENDAR