BEGIN:VCALENDAR
VERSION:2.0
PRODID:-//Eastside Community Chamber - ECPv5.5.0.1//NONSGML v1.0//EN
CALSCALE:GREGORIAN
METHOD:PUBLISH
X-WR-CALNAME:Eastside Community Chamber
X-ORIGINAL-URL:https://eastsidecommunitychamber.org
X-WR-CALDESC:Events for Eastside Community Chamber
BEGIN:VTIMEZONE
TZID:America/Detroit
BEGIN:DAYLIGHT
TZOFFSETFROM:-0500
TZOFFSETTO:-0400
TZNAME:EDT
DTSTART:20210314T070000
END:DAYLIGHT
BEGIN:STANDARD
TZOFFSETFROM:-0400
TZOFFSETTO:-0500
TZNAME:EST
DTSTART:20211107T060000
END:STANDARD
END:VTIMEZONE
BEGIN:VEVENT
DTSTART;VALUE=DATE:20211101
DTEND;VALUE=DATE:20211130
DTSTAMP:20260419T124910
CREATED:20211108T164921Z
LAST-MODIFIED:20211113T004326Z
UID:9948-1635724800-1638230399@eastsidecommunitychamber.org
SUMMARY:Gianna House Go Fund Me Goal $100K
DESCRIPTION:One Donation Can Save 2 Lives \nGianna House is one-of-a-kind residental home and outreach program in Eastpointe for young moms and moms-to-be. \nhttps://www.gofundme.com/f/x5643-saving-two-lives-at-a-time?qid=0c7e16b7ecd574788229554da5079651
URL:https://eastsidecommunitychamber.org/event/gianna-house-go-fund-me-goal-100k/
LOCATION:Gianna House Foundation\, 21357 Redmond Avenue\, Eastpointe\, MI\, 48021\, United States
CATEGORIES:Community
END:VEVENT
END:VCALENDAR