BEGIN:VCALENDAR
VERSION:2.0
PRODID:-//Eastside Community Chamber - ECPv5.5.0.1//NONSGML v1.0//EN
CALSCALE:GREGORIAN
METHOD:PUBLISH
X-WR-CALNAME:Eastside Community Chamber
X-ORIGINAL-URL:https://eastsidecommunitychamber.org
X-WR-CALDESC:Events for Eastside Community Chamber
BEGIN:VTIMEZONE
TZID:America/Detroit
BEGIN:DAYLIGHT
TZOFFSETFROM:-0500
TZOFFSETTO:-0400
TZNAME:EDT
DTSTART:20210314T070000
END:DAYLIGHT
BEGIN:STANDARD
TZOFFSETFROM:-0400
TZOFFSETTO:-0500
TZNAME:EST
DTSTART:20211107T060000
END:STANDARD
END:VTIMEZONE
BEGIN:VEVENT
DTSTART;TZID=America/Detroit:20211024T160000
DTEND;TZID=America/Detroit:20211024T180000
DTSTAMP:20260419T155029
CREATED:20211006T143103Z
LAST-MODIFIED:20211006T143103Z
UID:9902-1635091200-1635098400@eastsidecommunitychamber.org
SUMMARY:Boxing for Youth (MADE Student Athletics)
DESCRIPTION:Learn the fundamentals of boxing with Pro-boxer\, Mixed Martial Artist\, and Personal Trainer Ramsey Beard. Open to boys and girls ages 7-16\, Boxing Fundamentals is a 4-week clinic that will teach youth the basic skills and drills to build a solid boxing foundation. This is a beginner to intermediate level\, non-contact boxing program (no sparring). Sessions are limited to 12 participants allowing for maximum spacing and personal instruction.  \nAll necessary equipment will be provided on site. Participants can feel free to bring their own boxing gloves if preferred.
URL:https://eastsidecommunitychamber.org/event/boxing-for-youth-made-student-athletics-4/
LOCATION:MADE Student Athletics\, 19950 Mack Avenue\, Grosse Pointe\, MI\, MI\, United States
CATEGORIES:Children Events,Community
ORGANIZER;CN="MADE%20Student%20Athletics":MAILTO:contact@madestudentathletics.com
END:VEVENT
END:VCALENDAR